Package: bsseq Version: 1.46.0 Command: /home/biocbuild/bbs-3.22-bioc/R/bin/R CMD INSTALL bsseq StartedAt: 2025-11-02 15:38:43 -0500 (Sun, 02 Nov 2025) EndedAt: 2025-11-02 15:40:17 -0500 (Sun, 02 Nov 2025) EllapsedTime: 94.2 seconds RetCode: 0 Status: OK