Package: bsseq Version: 1.46.0 Command: /home/biocbuild/bbs-3.22-bioc/R/bin/R CMD build --keep-empty-dirs --no-resave-data --md5 bsseq StartedAt: 2025-11-02 16:50:08 -0500 (Sun, 02 Nov 2025) EndedAt: 2025-11-02 16:52:43 -0500 (Sun, 02 Nov 2025) EllapsedTime: 155.1 seconds RetCode: 0 Status: OK PackageFile: bsseq_1.46.0.tar.gz PackageFileSize: 2.941 MiB