Package: breakpointR Version: 1.27.0 Command: /home/biocbuild/bbs-3.22-bioc/R/bin/R CMD INSTALL breakpointR StartedAt: 2025-10-24 15:36:02 -0400 (Fri, 24 Oct 2025) EndedAt: 2025-10-24 15:36:31 -0400 (Fri, 24 Oct 2025) EllapsedTime: 29.3 seconds RetCode: 0 Status: OK