Package: breakpointR Version: 1.27.0 Command: /home/biocbuild/bbs-3.22-bioc/R/bin/R CMD build --keep-empty-dirs --no-resave-data --md5 breakpointR StartedAt: 2025-10-24 16:43:58 -0400 (Fri, 24 Oct 2025) EndedAt: 2025-10-24 16:45:10 -0400 (Fri, 24 Oct 2025) EllapsedTime: 71.1 seconds RetCode: 0 Status: OK PackageFile: breakpointR_1.27.0.tar.gz PackageFileSize: 821.7 KiB