Package: branchpointer Version: 1.35.1 Command: /Library/Frameworks/R.framework/Resources/bin/R CMD INSTALL branchpointer StartedAt: 2025-10-24 15:40:51 -0400 (Fri, 24 Oct 2025) EndedAt: 2025-10-24 15:42:02 -0400 (Fri, 24 Oct 2025) EllapsedTime: 70.6 seconds RetCode: 0 Status: OK