Package: bluster Version: 1.20.0 Command: /home/biocbuild/bbs-3.22-bioc/R/bin/R CMD INSTALL bluster StartedAt: 2025-11-16 15:15:31 -0500 (Sun, 16 Nov 2025) EndedAt: 2025-11-16 15:15:53 -0500 (Sun, 16 Nov 2025) EllapsedTime: 21.8 seconds RetCode: 0 Status: OK