Package: bluster Version: 1.20.0 Command: /home/biocbuild/bbs-3.22-bioc/R/bin/R CMD build --keep-empty-dirs --no-resave-data --md5 bluster StartedAt: 2025-11-14 16:35:36 -0500 (Fri, 14 Nov 2025) EndedAt: 2025-11-14 16:37:22 -0500 (Fri, 14 Nov 2025) EllapsedTime: 106.1 seconds RetCode: 0 Status: OK PackageFile: bluster_1.20.0.tar.gz PackageFileSize: 3.058 MiB