Package: blima Version: 1.44.0 Command: /home/biocbuild/bbs-3.22-bioc/R/bin/R CMD INSTALL blima StartedAt: 2025-10-31 15:49:04 -0400 (Fri, 31 Oct 2025) EndedAt: 2025-10-31 15:49:30 -0400 (Fri, 31 Oct 2025) EllapsedTime: 26.5 seconds RetCode: 0 Status: OK