Package: blima Version: 1.44.0 Command: /home/biocbuild/bbs-3.22-bioc/R/bin/R CMD build --keep-empty-dirs --no-resave-data --md5 blima StartedAt: 2025-10-31 16:42:59 -0400 (Fri, 31 Oct 2025) EndedAt: 2025-10-31 16:47:40 -0400 (Fri, 31 Oct 2025) EllapsedTime: 280.4 seconds RetCode: 0 Status: OK PackageFile: blima_1.44.0.tar.gz PackageFileSize: 267.6 KiB