Package: blacksheepr Version: 1.24.0 Command: /Library/Frameworks/R.framework/Resources/bin/R CMD INSTALL blacksheepr StartedAt: 2025-11-03 15:34:04 -0500 (Mon, 03 Nov 2025) EndedAt: 2025-11-03 15:34:40 -0500 (Mon, 03 Nov 2025) EllapsedTime: 35.8 seconds RetCode: 0 Status: OK