Package: blacksheepr Version: 1.24.0 Command: rm -rf blacksheepr.buildbin-libdir && mkdir blacksheepr.buildbin-libdir && /Users/biocbuild/BBS/utils/build-universal.sh blacksheepr_1.24.0.tar.gz /Library/Frameworks/R.framework/Resources/bin/R blacksheepr.buildbin-libdir StartedAt: 2025-11-04 01:30:09 -0500 (Tue, 04 Nov 2025) EndedAt: 2025-11-04 01:30:46 -0500 (Tue, 04 Nov 2025) EllapsedTime: 37.0 seconds RetCode: 0 Status: OK PackageFile: blacksheepr_1.24.0.tgz PackageFileSize: 4.285 MiB