Package: blacksheepr Version: 1.24.0 Command: /Library/Frameworks/R.framework/Resources/bin/R CMD INSTALL blacksheepr StartedAt: 2025-10-29 21:39:53 -0400 (Wed, 29 Oct 2025) EndedAt: 2025-10-29 21:40:04 -0400 (Wed, 29 Oct 2025) EllapsedTime: 11.0 seconds RetCode: 0 Status: OK