Package: biscuiteer Version: 1.24.0 Command: /home/biocbuild/bbs-3.22-bioc/R/bin/R CMD INSTALL biscuiteer StartedAt: 2025-11-03 16:02:25 -0500 (Mon, 03 Nov 2025) EndedAt: 2025-11-03 16:03:41 -0500 (Mon, 03 Nov 2025) EllapsedTime: 75.9 seconds RetCode: 0 Status: OK