Package: biscuiteer Version: 1.24.0 Command: /home/biocbuild/bbs-3.22-bioc/R/bin/R CMD build --keep-empty-dirs --no-resave-data --md5 biscuiteer StartedAt: 2025-11-03 16:34:15 -0500 (Mon, 03 Nov 2025) EndedAt: 2025-11-03 16:36:06 -0500 (Mon, 03 Nov 2025) EllapsedTime: 110.1 seconds RetCode: 0 Status: OK PackageFile: biscuiteer_1.24.0.tar.gz PackageFileSize: 4.766 MiB