Package: biovizBase Version: 1.58.0 Command: /home/biocbuild/bbs-3.22-bioc/R/bin/R CMD INSTALL biovizBase StartedAt: 2025-11-10 15:49:07 -0500 (Mon, 10 Nov 2025) EndedAt: 2025-11-10 15:49:55 -0500 (Mon, 10 Nov 2025) EllapsedTime: 47.2 seconds RetCode: 0 Status: OK