Package: biovizBase Version: 1.58.0 Command: /home/biocbuild/bbs-3.22-bioc/R/bin/R CMD build --keep-empty-dirs --no-resave-data --md5 biovizBase StartedAt: 2025-11-10 16:37:49 -0500 (Mon, 10 Nov 2025) EndedAt: 2025-11-10 16:38:54 -0500 (Mon, 10 Nov 2025) EllapsedTime: 65.0 seconds RetCode: 0 Status: OK PackageFile: biovizBase_1.58.0.tar.gz PackageFileSize: 2.401 MiB