Package: biotmle Version: 1.34.0 Command: /home/biocbuild/bbs-3.22-bioc/R/bin/R CMD INSTALL biotmle StartedAt: 2025-11-20 16:30:29 -0500 (Thu, 20 Nov 2025) EndedAt: 2025-11-20 16:30:55 -0500 (Thu, 20 Nov 2025) EllapsedTime: 26.3 seconds RetCode: 0 Status: OK