Package: biotmle Version: 1.34.0 Command: /home/biocbuild/bbs-3.22-bioc/R/bin/R CMD build --keep-empty-dirs --no-resave-data --md5 biotmle StartedAt: 2025-11-20 17:23:13 -0500 (Thu, 20 Nov 2025) EndedAt: 2025-11-20 17:24:28 -0500 (Thu, 20 Nov 2025) EllapsedTime: 74.1 seconds RetCode: 0 Status: OK PackageFile: biotmle_1.34.0.tar.gz PackageFileSize: 318.9 KiB