Package: biosigner Version: 1.38.0 Command: /home/biocbuild/bbs-3.22-bioc/R/bin/R CMD INSTALL biosigner StartedAt: 2025-11-17 17:48:48 -0500 (Mon, 17 Nov 2025) EndedAt: 2025-11-17 17:49:20 -0500 (Mon, 17 Nov 2025) EllapsedTime: 32.0 seconds RetCode: 0 Status: OK