Package: biomaRt Version: 2.66.0 Command: /home/biocbuild/bbs-3.22-bioc/R/bin/R CMD INSTALL biomaRt StartedAt: 2025-10-31 15:35:11 -0400 (Fri, 31 Oct 2025) EndedAt: 2025-10-31 15:35:28 -0400 (Fri, 31 Oct 2025) EllapsedTime: 16.6 seconds RetCode: 0 Status: OK