Package: biomaRt Version: 2.66.0 Command: /home/biocbuild/bbs-3.22-bioc/R/bin/R CMD build --keep-empty-dirs --no-resave-data --md5 biomaRt StartedAt: 2025-10-30 16:31:58 -0400 (Thu, 30 Oct 2025) EndedAt: 2025-10-30 16:34:08 -0400 (Thu, 30 Oct 2025) EllapsedTime: 130.1 seconds RetCode: 0 Status: OK PackageFile: biomaRt_2.66.0.tar.gz PackageFileSize: 888 KiB