Package: biodbChebi Version: 1.16.0 Command: /home/biocbuild/bbs-3.22-bioc/R/bin/R CMD INSTALL biodbChebi StartedAt: 2025-11-16 15:12:13 -0500 (Sun, 16 Nov 2025) EndedAt: 2025-11-16 15:12:22 -0500 (Sun, 16 Nov 2025) EllapsedTime: 9.2 seconds RetCode: 0 Status: OK