Package: biodbChebi Version: 1.16.0 Command: /home/biocbuild/bbs-3.22-bioc/R/bin/R CMD build --keep-empty-dirs --no-resave-data --md5 biodbChebi StartedAt: 2025-11-16 16:36:10 -0500 (Sun, 16 Nov 2025) EndedAt: 2025-11-16 16:36:25 -0500 (Sun, 16 Nov 2025) EllapsedTime: 15.0 seconds RetCode: 0 Status: OK PackageFile: biodbChebi_1.16.0.tar.gz PackageFileSize: 313.2 KiB