Package: biocmake Version: 1.1.4 Command: /home/biocbuild/bbs-3.22-bioc/R/bin/R CMD INSTALL biocmake StartedAt: 2025-10-28 15:04:14 -0400 (Tue, 28 Oct 2025) EndedAt: 2025-10-28 15:04:33 -0400 (Tue, 28 Oct 2025) EllapsedTime: 18.7 seconds RetCode: 0 Status: OK