Package: biocmake Version: 1.1.4 Command: /home/biocbuild/bbs-3.22-bioc/R/bin/R CMD build --keep-empty-dirs --no-resave-data --md5 biocmake StartedAt: 2025-10-28 16:29:19 -0400 (Tue, 28 Oct 2025) EndedAt: 2025-10-28 16:29:24 -0400 (Tue, 28 Oct 2025) EllapsedTime: 5.0 seconds RetCode: 0 Status: OK PackageFile: biocmake_1.1.4.tar.gz PackageFileSize: 223.8 KiB