Package: biocViews Version: 1.77.4 Command: /home/biocbuild/bbs-3.22-bioc/R/bin/R CMD build --keep-empty-dirs --no-resave-data --md5 biocViews StartedAt: 2025-10-24 16:39:59 -0400 (Fri, 24 Oct 2025) EndedAt: 2025-10-24 16:40:14 -0400 (Fri, 24 Oct 2025) EllapsedTime: 15.0 seconds RetCode: 0 Status: OK PackageFile: biocViews_1.77.4.tar.gz PackageFileSize: 512.8 KiB