Package: biocViews Version: 1.78.0 Command: rm -rf biocViews.buildbin-libdir && mkdir biocViews.buildbin-libdir && /Users/biocbuild/BBS/utils/build-universal.sh biocViews_1.78.0.tar.gz /Library/Frameworks/R.framework/Resources/bin/R biocViews.buildbin-libdir StartedAt: 2025-11-10 23:12:49 -0500 (Mon, 10 Nov 2025) EndedAt: 2025-11-10 23:12:53 -0500 (Mon, 10 Nov 2025) EllapsedTime: 4.1 seconds RetCode: 0 Status: OK PackageFile: biocViews_1.78.0.tgz PackageFileSize: 901.5 KiB