Package: biocGraph Version: 1.72.0 Command: /Library/Frameworks/R.framework/Resources/bin/R CMD INSTALL biocGraph StartedAt: 2025-11-10 15:09:34 -0500 (Mon, 10 Nov 2025) EndedAt: 2025-11-10 15:09:40 -0500 (Mon, 10 Nov 2025) EllapsedTime: 6.1 seconds RetCode: 0 Status: OK