Package: biocGraph Version: 1.72.0 Command: /Library/Frameworks/R.framework/Resources/bin/R CMD build --keep-empty-dirs --no-resave-data biocGraph StartedAt: 2025-11-10 15:45:41 -0500 (Mon, 10 Nov 2025) EndedAt: 2025-11-10 15:45:54 -0500 (Mon, 10 Nov 2025) EllapsedTime: 12.2 seconds RetCode: 0 Status: OK PackageFile: biocGraph_1.72.0.tar.gz PackageFileSize: 730.7 KiB