Package: biocGraph Version: 1.72.0 Command: rm -rf biocGraph.buildbin-libdir && mkdir biocGraph.buildbin-libdir && /Users/biocbuild/BBS/utils/build-universal.sh biocGraph_1.72.0.tar.gz /Library/Frameworks/R.framework/Resources/bin/R biocGraph.buildbin-libdir StartedAt: 2025-11-10 23:12:40 -0500 (Mon, 10 Nov 2025) EndedAt: 2025-11-10 23:12:47 -0500 (Mon, 10 Nov 2025) EllapsedTime: 7.2 seconds RetCode: 0 Status: OK PackageFile: biocGraph_1.72.0.tgz PackageFileSize: 722.1 KiB