Package: biobtreeR Version: 1.22.0 Command: /home/biocbuild/bbs-3.22-bioc/R/bin/R CMD INSTALL biobtreeR StartedAt: 2025-11-02 15:10:13 -0500 (Sun, 02 Nov 2025) EndedAt: 2025-11-02 15:10:27 -0500 (Sun, 02 Nov 2025) EllapsedTime: 13.3 seconds RetCode: 0 Status: OK