Package: bioDist Version: 1.81.0 Command: /home/biocbuild/bbs-3.22-bioc/R/bin/R CMD INSTALL bioDist StartedAt: 2025-10-27 15:15:21 -0400 (Mon, 27 Oct 2025) EndedAt: 2025-10-27 15:15:24 -0400 (Mon, 27 Oct 2025) EllapsedTime: 2.7 seconds RetCode: 0 Status: OK