Package: bioCancer Version: 1.38.0 Command: /home/biocbuild/bbs-3.22-bioc/R/bin/R CMD INSTALL bioCancer StartedAt: 2025-11-17 18:15:42 -0500 (Mon, 17 Nov 2025) EndedAt: 2025-11-17 18:16:42 -0500 (Mon, 17 Nov 2025) EllapsedTime: 59.8 seconds RetCode: 0 Status: OK