Package: bioCancer Version: 1.38.0 Command: /home/biocbuild/bbs-3.22-bioc/R/bin/R CMD build --keep-empty-dirs --no-resave-data --md5 bioCancer StartedAt: 2025-11-17 19:44:33 -0500 (Mon, 17 Nov 2025) EndedAt: 2025-11-17 19:45:31 -0500 (Mon, 17 Nov 2025) EllapsedTime: 58.0 seconds RetCode: 0 Status: OK PackageFile: bioCancer_1.38.0.tar.gz PackageFileSize: 9.465 MiB