Package: benchdamic Version: 1.16.0 Command: /home/biocbuild/bbs-3.22-bioc/R/bin/R CMD build --keep-empty-dirs --no-resave-data --md5 benchdamic StartedAt: 2025-11-17 19:41:43 -0500 (Mon, 17 Nov 2025) EndedAt: 2025-11-17 20:04:38 -0500 (Mon, 17 Nov 2025) EllapsedTime: 1375.1 seconds RetCode: 0 Status: OK PackageFile: benchdamic_1.16.0.tar.gz PackageFileSize: 5.905 MiB