Package: bedbaser Version: 1.2.0 Command: /home/biocbuild/bbs-3.22-bioc/R/bin/R CMD INSTALL bedbaser StartedAt: 2025-11-06 15:33:43 -0500 (Thu, 06 Nov 2025) EndedAt: 2025-11-06 15:33:47 -0500 (Thu, 06 Nov 2025) EllapsedTime: 4.2 seconds RetCode: 0 Status: OK