Package: beadarray Version: 2.59.0 Command: /Library/Frameworks/R.framework/Resources/bin/R CMD INSTALL beadarray StartedAt: 2025-10-24 15:18:18 -0400 (Fri, 24 Oct 2025) EndedAt: 2025-10-24 15:18:29 -0400 (Fri, 24 Oct 2025) EllapsedTime: 10.6 seconds RetCode: 0 Status: OK