Package: beachmat.hdf5 Version: 1.8.0 Command: /home/biocbuild/bbs-3.22-bioc/R/bin/R CMD INSTALL beachmat.hdf5 StartedAt: 2025-11-17 17:22:11 -0500 (Mon, 17 Nov 2025) EndedAt: 2025-11-17 17:23:22 -0500 (Mon, 17 Nov 2025) EllapsedTime: 70.1 seconds RetCode: 0 Status: OK