Package: bayNorm Version: 1.28.0 Command: /home/biocbuild/bbs-3.22-bioc/R/bin/R CMD INSTALL bayNorm StartedAt: 2025-11-14 15:20:40 -0500 (Fri, 14 Nov 2025) EndedAt: 2025-11-14 15:21:28 -0500 (Fri, 14 Nov 2025) EllapsedTime: 48.0 seconds RetCode: 0 Status: OK