Package: batchelor Version: 1.25.0 Command: /home/biocbuild/bbs-3.22-bioc/R/bin/R CMD build --keep-empty-dirs --no-resave-data --md5 batchelor StartedAt: 2025-10-24 16:31:12 -0400 (Fri, 24 Oct 2025) EndedAt: 2025-10-24 16:34:30 -0400 (Fri, 24 Oct 2025) EllapsedTime: 198.1 seconds RetCode: 0 Status: OK PackageFile: batchelor_1.25.0.tar.gz PackageFileSize: 1.953 MiB