Package: batchCorr Version: 1.0.0 Command: /Library/Frameworks/R.framework/Resources/bin/R CMD INSTALL batchCorr StartedAt: 2025-11-17 17:33:52 -0500 (Mon, 17 Nov 2025) EndedAt: 2025-11-17 17:34:00 -0500 (Mon, 17 Nov 2025) EllapsedTime: 8.6 seconds RetCode: 0 Status: OK