Package: batchCorr Version: 1.0.0 Command: /Library/Frameworks/R.framework/Resources/bin/R CMD build --keep-empty-dirs --no-resave-data batchCorr StartedAt: 2025-11-17 19:16:42 -0500 (Mon, 17 Nov 2025) EndedAt: 2025-11-17 19:17:41 -0500 (Mon, 17 Nov 2025) EllapsedTime: 58.6 seconds RetCode: 0 Status: OK PackageFile: batchCorr_1.0.0.tar.gz PackageFileSize: 900.7 KiB