Package: basilisk Version: 1.21.5 Command: /home/biocbuild/bbs-3.22-bioc/R/bin/R CMD INSTALL basilisk StartedAt: 2025-10-24 15:21:47 -0400 (Fri, 24 Oct 2025) EndedAt: 2025-10-24 15:21:55 -0400 (Fri, 24 Oct 2025) EllapsedTime: 8.6 seconds RetCode: 0 Status: OK