Package: basilisk Version: 1.22.0 Command: /Library/Frameworks/R.framework/Resources/bin/R CMD INSTALL basilisk StartedAt: 2025-11-17 17:08:04 -0500 (Mon, 17 Nov 2025) EndedAt: 2025-11-17 17:08:21 -0500 (Mon, 17 Nov 2025) EllapsedTime: 17.3 seconds RetCode: 0 Status: OK