Package: basilisk Version: 1.21.5 Command: /Library/Frameworks/R.framework/Resources/bin/R CMD INSTALL basilisk StartedAt: 2025-10-26 15:06:20 -0400 (Sun, 26 Oct 2025) EndedAt: 2025-10-26 15:06:29 -0400 (Sun, 26 Oct 2025) EllapsedTime: 8.5 seconds RetCode: 0 Status: OK