Package: basilisk Version: 1.21.5 Command: /Library/Frameworks/R.framework/Resources/bin/R CMD build --keep-empty-dirs --no-resave-data basilisk StartedAt: 2025-10-26 15:42:43 -0400 (Sun, 26 Oct 2025) EndedAt: 2025-10-26 15:44:01 -0400 (Sun, 26 Oct 2025) EllapsedTime: 77.8 seconds RetCode: 0 Status: OK PackageFile: basilisk_1.21.5.tar.gz PackageFileSize: 261.2 KiB