Package: basilisk Version: 1.21.5 Command: rm -rf basilisk.buildbin-libdir && mkdir basilisk.buildbin-libdir && /Users/biocbuild/BBS/utils/build-universal.sh basilisk_1.21.5.tar.gz /Library/Frameworks/R.framework/Resources/bin/R basilisk.buildbin-libdir StartedAt: 2025-10-26 22:29:31 -0400 (Sun, 26 Oct 2025) EndedAt: 2025-10-26 22:29:33 -0400 (Sun, 26 Oct 2025) EllapsedTime: 2.0 seconds RetCode: 0 Status: OK PackageFile: basilisk_1.21.5.tgz PackageFileSize: 317.8 KiB