Package: basilisk Version: 1.22.0 Command: /Library/Frameworks/R.framework/Resources/bin/R CMD build --keep-empty-dirs --no-resave-data basilisk StartedAt: 2025-11-17 19:16:03 -0500 (Mon, 17 Nov 2025) EndedAt: 2025-11-17 19:17:10 -0500 (Mon, 17 Nov 2025) EllapsedTime: 66.6 seconds RetCode: 1 Status: ERROR PackageFile: None PackageFileSize: NA