Package: basilisk Version: 1.22.0 Maintainer: Aaron Lun MaintainerEmail: infinite.monkeys.with.keyboards at gmail.com git_url: https://git.bioconductor.org/packages/basilisk git_branch: RELEASE_3_22 git_last_commit: 18be55f git_last_commit_date: 2025-10-29 10:56:48 -0400 (Wed, 29 Oct 2025)