Package: basilisk.utils Version: 1.22.0 Command: /home/biocbuild/R/R/bin/R CMD INSTALL basilisk.utils StartedAt: 2025-11-10 21:05:59 -0000 (Mon, 10 Nov 2025) EndedAt: 2025-11-10 21:06:23 -0000 (Mon, 10 Nov 2025) EllapsedTime: 23.8 seconds RetCode: 0 Status: OK